BEGIN:VCALENDAR
VERSION:2.0
PRODID:-//ExpressionEngine Easy iCalendar plugin//NONSGML v2.0.0//EN
X-WR-TIMEZONE:America/New_York
X-WR-CALNAME:Upcoming Auctions
BEGIN:VEVENT
UID:108414
DTSTAMP:20231006T100000
DTSTART:20231006T100000
DTEND:20231006T110000
SUMMARY:2313 W. STATE STREET  BRISTOL\,VA 24201
LOCATION:{location}
DESCRIPTION:REMEMBER THIS IS A FRIDAY SALE !  
URL:https://www.bartlongauctions.com/auctions/detail/bw108414
SEQUENCE:1
END:VEVENT
END:VCALENDAR